BEGIN:VCALENDAR
VERSION:2.0
PRODID:-//Erupcion Art Hotel &amp; Hostel - ECPv6.15.13.1//NONSGML v1.0//EN
CALSCALE:GREGORIAN
METHOD:PUBLISH
X-ORIGINAL-URL:https://hostalerupcion.com/es/
X-WR-CALDESC:Eventos para Erupcion Art Hotel &amp; Hostel
REFRESH-INTERVAL;VALUE=DURATION:PT1H
X-Robots-Tag:noindex
X-PUBLISHED-TTL:PT1H
BEGIN:VTIMEZONE
TZID:UTC
BEGIN:STANDARD
TZOFFSETFROM:+0000
TZOFFSETTO:+0000
TZNAME:UTC
DTSTART:20230101T000000
END:STANDARD
END:VTIMEZONE
BEGIN:VEVENT
DTSTART;TZID=UTC:20240226T190000
DTEND;TZID=UTC:20240226T190000
DTSTAMP:20260420T023705
CREATED:20240224T232403Z
LAST-MODIFIED:20240321T033041Z
UID:5964-1708974000-1708974000@hostalerupcion.com
SUMMARY:Evento Hora Loca en Baños Ecuador
DESCRIPTION:¡Comienza tu noche en Erupcion Art Hotel & Hostel! Disfruta de una cerveza o sangría gratis todos los días de 7 a 8 pm en nuestra animada área común. Conecta con otros viajeros\, planea aventuras y crea recuerdos inolvidables. ¡No te lo pierdas!\n\n¡El comienzo perfecto de tu noche en Erupcion Art Hotel & Hostel! Únete a nosotros todos los días de 7pm a 8pm para disfrutar de una cerveza o sangría de cortesía\, creando el escenario para momentos inolvidables. Nuestra animada área común se convierte en un centro bullicioso donde los viajeros solitarios se reúnen para conectarse\, planificar aventuras y disfrutar de juegos amigables. Como uno de los mejores hostales de Baños\, Ecuador\, nos enorgullecemos de fomentar un ambiente acogedor y social para nuestros huéspedes. ¡No te pierdas esta excelente oportunidad para empezar tu noche con estilo!
URL:https://hostalerupcion.com/es/event/hora-loca/
LOCATION:Banos\, Ecuador\, Erupcion Art Hotel & Hostel\, Ambato &\, Baños de Agua Santa 010151\, Ecuador\, Baños\, Tungurahua\, Ecuador
CATEGORIES:Eventos en Baños Ecuador
ATTACH;FMTTYPE=image/jpeg:https://hostalerupcion.com/wp-content/uploads/2024/02/hora-loca.jpg
END:VEVENT
BEGIN:VEVENT
DTSTART;TZID=UTC:20240226T200000
DTEND;TZID=UTC:20240226T200000
DTSTAMP:20260420T023705
CREATED:20240224T231159Z
LAST-MODIFIED:20240321T032651Z
UID:5961-1708977600-1708977600@hostalerupcion.com
SUMMARY:Cenas en el Hostal en Baños Ecuador
DESCRIPTION:Disfruta de cenas temáticas en nuestro hostal\, donde los viajeros solitarios se unen alrededor de deliciosas comidas y cuentos de aventuras. Únete a nosotros para disfrutar de calidez\, camaradería y experiencias llenas de sabor. ¡No cenes solo\, únete a la diversión!\n\nÚnete a nosotros para cenas temáticas en el hostal\, donde los viajeros solitarios se reúnen para disfrutar de deliciosas comidas y forjar nuevas amistades. Nuestras cenas ofrecen un ambiente cálido y acogedor\, perfecto para conectar sobre platos abundantes y compartir historias de viajes. Con menús temáticos y compañía vibrante\, cada noche promete momentos memorables y sabores deliciosos. ¡No cenes solo! Únete a nuestras cenas en el hostal y experimenta la alegría de cenar en comunidad.
URL:https://hostalerupcion.com/es/event/cenas-en-el-hostal/
LOCATION:Banos\, Ecuador\, Erupcion Art Hotel & Hostel\, Ambato &\, Baños de Agua Santa 010151\, Ecuador\, Baños\, Tungurahua\, Ecuador
CATEGORIES:Eventos en Baños Ecuador
ATTACH;FMTTYPE=image/jpeg:https://hostalerupcion.com/wp-content/uploads/2024/02/dinner.jpg
END:VEVENT
BEGIN:VEVENT
DTSTART;TZID=UTC:20240226T210000
DTEND;TZID=UTC:20240226T210000
DTSTAMP:20260420T023705
CREATED:20240224T220424Z
LAST-MODIFIED:20240321T032515Z
UID:5960-1708981200-1708981200@hostalerupcion.com
SUMMARY:Noche de Salsa los Lunes en Baños Ecuador
DESCRIPTION:¡Pon tu ritmo en nuestro bar en la azotea! Free salsa classes for all levels – no judgment\, just fun! Conoce\, baila y crea recuerdos bajo las estrellas. ¡Únete a la fiesta!\n\n¡Experimenta los vibrantes ritmos del baile de salsa en nuestro bar en la azotea con nuestras clases de salsa gratuitas! Únete a nosotros mientras reunimos a huéspedes de todo el mundo para una velada llena de música\, movimiento y conexiones multiculturales. ¡Ya seas un bailarín experimentado o un principiante dando sus primeros pasos\, todos son bienvenidos! No hay tarifa de entrada y absolutamente ningún juicio Sumérgete en el animado ambiente y deja que los ritmos te lleven mientras aprendes nuevos movimientos y haces nuevos amigos. ¡No te pierdas esta oportunidad de añadir un toque de emoción a tu noche! ¡Te esperamos allí!
URL:https://hostalerupcion.com/es/event/lunes-noche-de-salsa/
LOCATION:Banos\, Ecuador\, Erupcion Art Hotel & Hostel\, Ambato &\, Baños de Agua Santa 010151\, Ecuador\, Baños\, Tungurahua\, Ecuador
CATEGORIES:Eventos en Baños Ecuador
ATTACH;FMTTYPE=image/jpeg:https://hostalerupcion.com/wp-content/uploads/2024/02/salsa-classes-banos-ecuador.jpg
END:VEVENT
END:VCALENDAR